Workbook
Name AssessmentType: Formulas!$B$19:$B$22
Name Consequence: Formulas!$B$3:$B$7
Name Likelihood: Formulas!$A$3:$A$7
Name Matrix: #REF!
Name RiskType: Formulas!$A$19:$A$26
Name Strategy_Deployment_Initiative_Plan: #REF!

Sheet Risk Register
B2: Event Name:
B3: Event Date:
B4: Event Location:
B5: Completed By:
B6: Date Completed:
B7: Date Revised:
G8: Residual Risk | J8: Treatment
A9: Risk ID | B9: Risk Name | C9: Risk Description | D9: Risk Owner | E9: Causes | F9: Current Controls | G9: Consequence | H9: Likelihood | I9: Risk Rating | J9: Treatment | K9: Due Date
A10: =ROW(A1) -> 1 | I10: =IF(H10="","",INDEX(Formulas!$B$11:$F$15,MID('Risk Register'!H10,2,1),MID('Risk Register'!G10,2,1)))
A11: =ROW(A2) -> 2 | I11: =IF(H11="","",INDEX(Formulas!$B$11:$F$15,MID('Risk Register'!H11,2,1),MID('Risk Register'!G11,2,1)))
A12: =ROW(A3) -> 3 | I12: =IF(H12="","",INDEX(Formulas!$B$11:$F$15,MID('Risk Register'!H12,2,1),MID('Risk Register'!G12,2,1)))
A13: =ROW(A4) -> 4 | I13: =IF(H13="","",INDEX(Formulas!$B$11:$F$15,MID('Risk Register'!H13,2,1),MID('Risk Register'!G13,2,1)))
A14: =ROW(A5) -> 5 | I14: =IF(H14="","",INDEX(Formulas!$B$11:$F$15,MID('Risk Register'!H14,2,1),MID('Risk Register'!G14,2,1)))
A15: =ROW(A6) -> 6 | I15: =IF(H15="","",INDEX(Formulas!$B$11:$F$15,MID('Risk Register'!H15,2,1),MID('Risk Register'!G15,2,1)))
A16: =ROW(A7) -> 7 | I16: =IF(H16="","",INDEX(Formulas!$B$11:$F$15,MID('Risk Register'!H16,2,1),MID('Risk Register'!G16,2,1)))
A17: =ROW(A8) -> 8 | I17: =IF(H17="","",INDEX(Formulas!$B$11:$F$15,MID('Risk Register'!H17,2,1),MID('Risk Register'!G17,2,1)))
A18: =ROW(A9) -> 9 | I18: =IF(H18="","",INDEX(Formulas!$B$11:$F$15,MID('Risk Register'!H18,2,1),MID('Risk Register'!G18,2,1)))
A19: =ROW(A10) -> 10 | I19: =IF(H19="","",INDEX(Formulas!$B$11:$F$15,MID('Risk Register'!H19,2,1),MID('Risk Register'!G19,2,1)))
A20: =ROW(A11) -> 11 | I20: =IF(H20="","",INDEX(Formulas!$B$11:$F$15,MID('Risk Register'!H20,2,1),MID('Risk Register'!G20,2,1)))
A21: =ROW(A12) -> 12 | I21: =IF(H21="","",INDEX(Formulas!$B$11:$F$15,MID('Risk Register'!H21,2,1),MID('Risk Register'!G21,2,1)))
... A28: =ROW(A19) -> 19 | I28: =IF(H28="","",INDEX(Formulas!$B$11:$F$15,MID('Risk Register'!H28,2,1),MID('Risk Register'!G28,2,1)))

Sheet Risk Matrix
A1: Risk Matrix
A3: Risk Matrix | B3: Likelihood
A4: Consequence Level | B4: Rare | C4: Unlikely | D4: Possible | E4: Likely | F4: Almost Certain
A5: Critical | B5: High | C5: High | D5: Extreme | E5: Extreme | F5: Extreme
A6: Major | B6: Medium | C6: Medium | D6: High | E6: High | F6: Extreme
A7: Moderate | B7: Medium | C7: Medium | D7: Medium | E7: High | F7: High
A8: Minor | B8: Low | C8: Low | D8: Medium | E8: Medium | F8: Medium
A9: Insignificant | B9: Low | C9: Low | D9: Low | E9: Low | F9: Medium

Sheet Risk Assessment Process
A1: Field Explanation and Risk Process
A3: Risk Process | B3: Field name | C3: Explanation
A4: Step 1 - Identify | B4: Risk ID | C4: Insert a reference number (starting from 1) to identify the risk
B5: Risk Name | C5: Add a short and succinct title for the risk
B6: Risk Description | C6: Provide a description of what is the risk
A7: Step 2 - Analyse | B7: Risk Owner | C7: Insert the position title of the person responsible for ensuring the identified risk is effectively and efficiently managed
B8: Cause | C8: List the causes of the risk Inlcude a reference number starting from (1)
B9: Current Controls | C9: List the current controls in place to eliminate or mitigate the risk, this can include policies, delegations, procedures, devices, systems or other actions Inlcude a reference number starting from (1) Rate the Control Effectiveness of each individual risk, ad not in brackets i.e. (E), (PE) or (I)
B10: Residual Consequence | C10: Use the drop down menu to select the relevent consequence level in the event of the risk occuring Refer to the Risk Consequence Table (Consequence & Likelhood Tab)
B11: Residual Likelihood | C11: Use the drop down menu to select the relevent likelihood of the risk occuring Refer to the Risk Likelhood Table (Consequence & Likelhood Tab)
B12: Residual Risk Rating | C12: The combined result of the residual consequence and likelihood This is automatically calculated using the Risk Matrix
A13: Step 4 - Treat | B13: Treatment | C13: Proposed actions to further reduce the consequence and/or likelihood of the identified risk to achieve the target risk rating
B14: Due Date | C14: Insert a due date to complete the treatment action

Sheet Formulas
A1: Risk Likelihood | B1: Risk Consequence | D1: Risk Rank | O1: Password | P1: CTTGrisk
A3: (1) Almost Certain | B3: (1) Insignificant | D3: Low
A4: (2) Likely | B4: (2) Minor | D4: Medium
A5: (3) Possible | B5: (3) Moderate | D5: High
A6: (4) Unlikely | B6: (4) Major | D6: Extreme
A7: (5) Rare | B7: (5) Critical
A11: (1) Almost Certain | B11: Low | C11: Medium | D11: High | E11: Extreme | F11: Extreme
A12: (2) Likely | B12: Low | C12: Medium | D12: High | E12: High | F12: Extreme
A13: (3) Possible | B13: Low | C13: Medium | D13: Medium | E13: High | F13: Extreme
A14: (4) Unlikely | B14: Low | C14: Low | D14: Medium | E14: Medium | F14: High
A15: (5) Rare | B15: Low | C15: Low | D15: Medium | E15: Medium | F15: High
B16: (1) Insignificant | C16: (2) Minor | D16: (3) Moderate | E16: (4) Major | F16: (5) Critical
A17: Risk Likelihood | B17: Risk Consequence | D17: Risk Rank
A19: (1) Almost Certain | B19: (1) Insignificant | D19: Low
A20: (2) Likely | B20: (2) Minor | D20: Medium
A21: (3) Possible | B21: (3) Moderate | D21: High
A22: (4) Unlikely | B22: (4) Major | D22: Extreme
A23: (5) Rare | B23: (5) Critical
A27: (1) Almost Certain | B27: Low | C27: Medium | D27: High | E27: Extreme | F27: Extreme
A28: (2) Likely | B28: Low | C28: Medium | D28: High | E28: High | F28: Extreme
A29: (3) Possible | B29: Low | C29: Medium | D29: Medium | E29: High | F29: Extreme
A30: (4) Unlikely | B30: Low | C30: Low | D30: Medium | E30: Medium | F30: High
A31: (5) Rare | B31: Low | C31: Low | D31: Medium | E31: Medium | F31: High
B32: (1) Insignificant | C32: (2) Minor | D32: (3) Moderate | E32: (4) Major | F32: (5) Critical
A33: (1) Insignificant | B33: (2) Major | C33: (3) Moderate | D33: (4) Minor | E33: (5) Critical
H35: Risk Register Review Date
H36: Risk Assessment Date
H38: Risk Register Reviewed by
H39: Risk Assessment Team
N55: Consequence | O55: (5) Rare | P55: (4) Unlikely | Q55: (3) Possible | R55: (2) Likely | S55: (1) Almost Certain
A56: Risk Rating | B56: Risk Appetite | D56: Strategic/Org Objectives 2020 | I56: Risk Categories | N56: (5) Critical | O56: High | P56: High | Q56: Extreme | R56: Extreme | S56: Extreme
A57: Low | B57: Zero | D57: SP1 Healthy & Safe SP1.1.1 | I57: Compliance | K57: Risk Controls | L57: Control Effectiveness | N57: (4) Major | O57: Medium | P57: Medium | Q57: High | R57: High | S57: Extreme
A58: Medium | B58: Low | D58: SP1 Healthy & Safe SP1.1.2 | I58: Environmental | K58: Eliminate | L58: Effective | N58: (3) Moderate | O58: Medium | P58: Medium | Q58: Medium | R58: High | S58: High
A59: High | B59: Limited | D59: SP1 Healthy & Safe SP1.1.3 | I59: Financial | K59: Mitigate | L59: Partially Effective | N59: (2) Minor | O59: Low | P59: Low | Q59: Medium | R59: Medium | S59: Medium
A60: Extreme | B60: Moderate | D60: SP2 Prosperous & Connected SP2.1.1 | I60: People and Safety | K60: Transfer | L60: Ineffective | N60: (1) Insignificant | O60: Low | P60: Low | Q60: Low | R60: Low | S60: Low
B61: High | D61: SP2 Prosperous & Connected SP2.1.2 | I61: Reputational | K61: Accept
D62: SP2 Prosperous & Connected SP2.1.3 | I62: Service Delivery | K62: Exploit
C63: Risk Status | D63: SP2 Prosperous & Connected SP2.1.4 | K63: Share
C64: New | D64: SP3 Vibrant & Livable SP3.1.1 | K64: Enhance
C65: Active | D65: SP3 Vibrant & Livable SP3.1.2 | K65: Ignore
C66: Closed | D66: SP3 Vibrant & Livable SP3.1.3
C67: For Consideration | D67: SP3 Vibrant & Livable SP3.1.4
D68: OP1 People & Leadership OP1.1.1
D69: OP1 People & Leadership OP1.1.2
D70: OP1 People & Leadership OP1.2.1
D71: OP1 People & Leadership OP1.3.1
D72: OP1 People & Leadership OP1.3.2
D73: OP1 People & Leadership OP1.4.1
D74: OP1 People & Leadership OP1.5.1
D75: OP2 Customers & Community Relations OP2.1.1
D76: OP2 Customers & Community Relations OP2.1.2
D77: OP2 Customers & Community Relations OP2.2.1
D78: OP2 Customers & Community Relations OP2.3.1
D79: OP2 Customers & Community Relations OP2.3.2
... D137: OP4 Sustainable Operations 4.3
